BEGIN:VCALENDAR
VERSION:2.0
PRODID:-//ChamberMaster//Event Calendar 2.0//EN
METHOD:PUBLISH
X-PUBLISHED-TTL:P3D
REFRESH-INTERVAL:P3D
CALSCALE:GREGORIAN
BEGIN:VEVENT
DTSTART:20160216T133000Z
DTEND:20160217T033000Z
X-MICROSOFT-CDO-ALLDAYEVENT:FALSE
SUMMARY:2016 Multi-Chamber Dale Carnegie Training Breakfast
DESCRIPTION:Multi-Chamber Dale Carnegie Training Breakfast\n\n\n\nJoin the Jersey Shore Chamber of Commerce\, along with Asbury Park Chamber of Commerce\, Brick Chamber of Commerce\, Greater Monmouth Chamber of Commerce and Howell Chamber of Commerce for a delicious breakfast at Jumping Brook Country Club\, networking and valuable training from Dale Carnegie Speakers.\n\n\n\nTopic: Employee Engagement- Identifying specific behaviors you need to employ to create and engaged workforce or team members.
X-ALT-DESC;FMTTYPE=text/html:<div style="text-align: center\;"><span style="color:#006400\;"><strong><span style="font-size: 22px\;"><span style="font-family: verdana\;">Multi-Chamber Dale Carnegie Training Breakfast</span></span></strong><br />\n<br />\n<span style="font-size: 22px\;"><span style="font-family: verdana\;"><strong><span style="font-size: 20px\;"><span style="font-size: 16px\;">Join the Jersey Shore Chamber of Commerce\, along with Asbury Park Chamber of Commerce\, Brick Chamber of Commerce\, Greater Monmouth Chamber of Commerce and Howell Chamber of Commerce for a delicious breakfast at Jumping Brook Country Club\, networking and valuable training from Dale Carnegie Speakers.</span><br />\n<br />\nTopic: Employee Engagement- Identifying specific behaviors you need to employ to create and engaged workforce or team members.</span></strong></span></span></span></div>\n
LOCATION:210 Jumping Brook Road\, Neptune
UID:e.2007.377
SEQUENCE:3
DTSTAMP:20260425T221426Z
URL:https://business.jerseyshorechambernj.com/events/details/2016-multi-chamber-dale-carnegie-training-breakfast-02-16-2016-377
END:VEVENT

END:VCALENDAR
