BEGIN:VCALENDAR
VERSION:2.0
PRODID:-//ChamberMaster//Event Calendar 2.0//EN
METHOD:PUBLISH
X-PUBLISHED-TTL:P3D
REFRESH-INTERVAL:P3D
CALSCALE:GREGORIAN
BEGIN:VEVENT
DTSTART:20160125T223000Z
DTEND:20160126T003000Z
X-MICROSOFT-CDO-ALLDAYEVENT:FALSE
SUMMARY:2016 Presidents' Roast and Toast- POSTPONED
DESCRIPTION:POSTPONED!\n\n2016 Presidents' Roast and Toast\n\n\n\nJoin us for a night of fun and laughs\, as we celebrate our incoming and outgoing presidents!
X-ALT-DESC;FMTTYPE=text/html:<div style="text-align: center\;"><span style="font-size:26px\;"><span style="font-family:verdana\;"><strong><span style="color:#FF0000\;">POSTPONED!</span></strong><br />\n2016 Presidents&#39\; Roast and Toast<br />\n<br />\n<span style="font-size:20px\;">Join us for a night of fun and laughs\, as we celebrate our incoming and outgoing presidents!</span></span></span></div>\n
LOCATION:
UID:e.2007.375
SEQUENCE:3
DTSTAMP:20260425T234327Z
URL:https://business.jerseyshorechambernj.com/events/details/2016-presidents-roast-and-toast-postponed-01-25-2016-375
END:VEVENT

END:VCALENDAR
