BEGIN:VCALENDAR
VERSION:2.0
PRODID:-//ChamberMaster//Event Calendar 2.0//EN
METHOD:PUBLISH
X-PUBLISHED-TTL:P3D
REFRESH-INTERVAL:P3D
CALSCALE:GREGORIAN
BEGIN:VEVENT
DTSTART:20160719T130000Z
DTEND:20160719T143000Z
X-MICROSOFT-CDO-ALLDAYEVENT:FALSE
SUMMARY:2016 Scholarship Ceremony & General Membership Meeting
DESCRIPTION:Scholarship Ceremony and General Membership Meeting\n\n\n\nJoin us as we honor our 2016 JSCC Scholarship Recipients!
X-ALT-DESC;FMTTYPE=text/html:<strong><span style="font-size:14px\;">Scholarship Ceremony and General Membership Meeting</span></strong><br />\n<br />\n<span style="font-size:14px\;"><span style="font-size:12px\;">Join us as we honor our 2016 JSCC Scholarship Recipients! </span></span>
LOCATION:Francis Asbury Manor 70 Stockton Ave\, Ocean Grove 732-774-1316
UID:e.2007.809
SEQUENCE:3
DTSTAMP:20260425T135150Z
URL:https://business.jerseyshorechambernj.com/events/details/2016-scholarship-ceremony-general-membership-meeting-07-19-2016-809
END:VEVENT

END:VCALENDAR
