BEGIN:VCALENDAR
VERSION:2.0
PRODID:-//ChamberMaster//Event Calendar 2.0//EN
METHOD:PUBLISH
X-PUBLISHED-TTL:P3D
REFRESH-INTERVAL:P3D
CALSCALE:GREGORIAN
BEGIN:VEVENT
DTSTART:20160114T220000Z
DTEND:20160115T000000Z
X-MICROSOFT-CDO-ALLDAYEVENT:FALSE
SUMMARY:2016 Women in Business After Hours Event- January
DESCRIPTION:2016 Women in Business After Hours Event\n\n\n\nJoin us for our first Women in Business Event of the New Year!
X-ALT-DESC;FMTTYPE=text/html:<div style="text-align: center\;"><span style="font-size: 18px\;"><span style="font-family: verdana\;"><strong>2016 Women in Business After Hours Event</strong><br />\n<br />\n<span style="font-size:14px\;"><strong>Join us for our first Women in Business Event of the New Year! </strong></span></span></span><br />\n<br />\n<br />\n&nbsp\;</div>\n
LOCATION:Yvonne's of Neptune 1311 Route 35 South\, Neptune
UID:e.2007.373
SEQUENCE:3
DTSTAMP:20260425T234358Z
URL:https://business.jerseyshorechambernj.com/events/details/2016-women-in-business-after-hours-event-january-01-14-2016-373
END:VEVENT

END:VCALENDAR
