BEGIN:VCALENDAR
VERSION:2.0
PRODID:-//ChamberMaster//Event Calendar 2.0//EN
METHOD:PUBLISH
X-PUBLISHED-TTL:P3D
REFRESH-INTERVAL:P3D
CALSCALE:GREGORIAN
BEGIN:VEVENT
DTSTART:20160412T210000Z
DTEND:20160412T230000Z
X-MICROSOFT-CDO-ALLDAYEVENT:FALSE
SUMMARY:2016 Women in Business - April
DESCRIPTION:2016 Women in Business After Hours Event - April 12
X-ALT-DESC;FMTTYPE=text/html:<div style="text-align: center\;"><strong><span style="font-size:24px\;">2016 Women in Business After Hours Event - April 12</span></strong></div>\n
LOCATION:Scarborough Fair Restaurant 1414 Meeting House Rd Sea Girt\, NJ 08750
UID:e.2007.585
SEQUENCE:3
DTSTAMP:20260425T192331Z
URL:https://business.jerseyshorechambernj.com/events/details/2016-women-in-business-april-04-12-2016-585
END:VEVENT

END:VCALENDAR
