BEGIN:VCALENDAR
VERSION:2.0
PRODID:-//ChamberMaster//Event Calendar 2.0//EN
METHOD:PUBLISH
X-PUBLISHED-TTL:P3D
REFRESH-INTERVAL:P3D
CALSCALE:GREGORIAN
BEGIN:VEVENT
DTSTART:20160712T213000Z
DTEND:20160712T233000Z
X-MICROSOFT-CDO-ALLDAYEVENT:FALSE
SUMMARY:2016 Women in Business - July
DESCRIPTION:Women in Business\n\nAfter Hours Event
X-ALT-DESC;FMTTYPE=text/html:<div style="text-align: center\;"><span style="font-family:verdana\;"><span style="font-size:20px\;">Women in Business<br />\nAfter Hours Event</span></span></div>\n
LOCATION:1904 Atlantic Avenue\, Manasquan
UID:e.2007.798
SEQUENCE:3
DTSTAMP:20260425T135300Z
URL:https://business.jerseyshorechambernj.com/events/details/2016-women-in-business-july-07-12-2016-798
END:VEVENT

END:VCALENDAR
