BEGIN:VCALENDAR
VERSION:2.0
PRODID:-//ChamberMaster//Event Calendar 2.0//EN
METHOD:PUBLISH
X-PUBLISHED-TTL:P3D
REFRESH-INTERVAL:P3D
CALSCALE:GREGORIAN
BEGIN:VEVENT
DTSTART:20180913T123000Z
DTEND:20180913T143000Z
X-MICROSOFT-CDO-ALLDAYEVENT:FALSE
SUMMARY:2018 Meet The Mayors
DESCRIPTION:An annual event where members of the chamber and community come to meet Monmouth County's dignitaries. Enjoy a delicious breakfast provided by Klein's Fish Market and Waterside Caf  and get to know your Mayors!
X-ALT-DESC;FMTTYPE=text/html:<span style="color: rgb(29\, 33\, 41)\; font-family: Helvetica\, Arial\, sans-serif\; font-size: 12px\; white-space: pre-wrap\;">An annual event where members of the chamber and community come to meet Monmouth County&#39\;s dignitaries. Enjoy a delicious breakfast provided by Klein&rsquo\;s Fish Market and Waterside Caf&eacute\; and get to know your Mayors! </span>
LOCATION:Klein's Fish Market & Waterside Cafe 708 River Rd Belmar\, NJ
UID:e.2007.1140
SEQUENCE:3
DTSTAMP:20260422T083754Z
URL:https://business.jerseyshorechambernj.com/events/details/2018-meet-the-mayors-1140
END:VEVENT

END:VCALENDAR
