BEGIN:VCALENDAR
VERSION:2.0
PRODID:-//ChamberMaster//Event Calendar 2.0//EN
METHOD:PUBLISH
X-PUBLISHED-TTL:P3D
REFRESH-INTERVAL:P3D
CALSCALE:GREGORIAN
BEGIN:VEVENT
DTSTART:20180328T213000Z
DTEND:20180329T000000Z
X-MICROSOFT-CDO-ALLDAYEVENT:FALSE
SUMMARY:2018 Speed Networking with the Asbury Park Chamber of Commerce- NEW DATE
DESCRIPTION:POSTPONED DUE TO WEATHER\n\nNEW DATE: March 28\, 2018\n\nBACK BY POPULAR DEMAND\n\nLIMITED SEATS\n\n \n\nTry Business Networking With SPEED\n\nTune up your sales talk and meet new colleagues!\n\n \n\nThe Jersey Shore & Asbury Park Chambers of Commerce \n\n \n\nInvite You To Join Us For Our\n\n8th Annual\n\nSPEED NETWORKING EVENT\n\n \n\n \n\nFIRST COME\, FIRST SERVED! \n\n(it's fun\, we promise)
X-ALT-DESC;FMTTYPE=text/html:<div style="text-align: center\;"><strong><span style="color:#FF0000\;"><span style="font-family:arial\,sans-serif\;"><span style="font-size:18.0pt\;">POSTPONED DUE TO WEATHER<br />\nNEW DATE: March 28\, 2018</span></span></span><br />\n<span style="color:#49B3FF\;"><span style="font-family:arial\,sans-serif\;"><span style="font-size:18.0pt\;">BACK BY POPULAR DEMAND</span></span></span></strong><br />\n<strong><span style="color:#49B3FF\;"><span style="font-family:arial\,sans-serif\;"><span style="font-size:18.0pt\;">LIMITED SEATS</span></span></span></strong><br />\n&nbsp\;<br />\n<strong><span style="color:#49B3FF\;"><span style="font-family:arial\,sans-serif\;"><span style="font-size:18.0pt\;">Try Business Networking With SPEED</span></span></span></strong><br />\n<span style="color:#49B3FF\;"><span style="font-family:verdana\,sans-serif\;"><span style="font-size:14.0pt\;">Tune up your sales talk and meet new colleagues!</span></span></span><br />\n&nbsp\;<br />\n<span style="color:black\;"><span style="font-family:verdana\,sans-serif\;"><span style="font-size:14.0pt\;">The Jersey Shore &amp\; Asbury Park Chambers of Commerce </span></span></span><br />\n&nbsp\;<br />\n<strong><span style="color:black\;"><span style="font-family:verdana\,sans-serif\;">Invite You To Join Us For Our</span></span></strong><br />\n<strong><span style="color:black\;"><span style="font-family:verdana\,sans-serif\;">8th Annual</span></span></strong><br />\n<strong><span style="color:black\;"><span style="font-family:verdana\,sans-serif\;">SPEED NETWORKING EVENT</span></span></strong><br />\n&nbsp\;<br />\n&nbsp\;<br />\n<strong><span style="color:#49B3FF\;"><span style="font-family:verdana\,sans-serif\;">FIRST COME\, FIRST SERVED! </span></span></strong><br />\n<span style="color:#49B3FF\;"><span style="font-family:verdana\,sans-serif\;"><span style="font-size:10.0pt\;">(it&#39\;s fun\, we promise) </span></span></span><br />\n&nbsp\;</div>\n
LOCATION:Dark City Brewing Company 1001 Main Street\, Asbury Park
UID:e.2007.1143
SEQUENCE:3
DTSTAMP:20260422T171425Z
URL:https://business.jerseyshorechambernj.com/events/details/2018-speed-networking-with-the-asbury-park-chamber-of-commerce-new-date-1143
END:VEVENT

END:VCALENDAR
