BEGIN:VCALENDAR
VERSION:2.0
PRODID:-//ChamberMaster//Event Calendar 2.0//EN
METHOD:PUBLISH
X-PUBLISHED-TTL:P3D
REFRESH-INTERVAL:P3D
CALSCALE:GREGORIAN
BEGIN:VEVENT
DTSTART:20190320T213000Z
DTEND:20190321T000000Z
X-MICROSOFT-CDO-ALLDAYEVENT:FALSE
SUMMARY:2019 Speed Networking with the Asbury Park Chamber of Commerce
DESCRIPTION:BACK BY POPULAR DEMAND\n\nLIMITED SEATS\n\n \n\nTry Business Networking With SPEED\n\nTune up your sales talk and meet new colleagues!\n\n \n\nThe Jersey Shore & Asbury Park Chambers of Commerce \n\n \n\nInvite You To Join Us For Our\n\n9th Annual\n\nSPEED NETWORKING EVENT\n\n \n\n \n\nFIRST COME\, FIRST SERVED! \n\n(it's fun\, we promise)
X-ALT-DESC;FMTTYPE=text/html:<div style="text-align: center\;"><br />\n<strong><span style="color:#49B3FF\;"><span style="font-family:arial\,sans-serif\;"><span style="font-size:18.0pt\;">BACK BY POPULAR DEMAND</span></span></span></strong><br />\n<strong><span style="color:#49B3FF\;"><span style="font-family:arial\,sans-serif\;"><span style="font-size:18.0pt\;">LIMITED SEATS</span></span></span></strong><br />\n&nbsp\;<br />\n<strong><span style="color:#49B3FF\;"><span style="font-family:arial\,sans-serif\;"><span style="font-size:18.0pt\;">Try Business Networking With SPEED</span></span></span></strong><br />\n<span style="color:#49B3FF\;"><span style="font-family:verdana\,sans-serif\;"><span style="font-size:14.0pt\;">Tune up your sales talk and meet new colleagues!</span></span></span><br />\n&nbsp\;<br />\n<span style="color:black\;"><span style="font-family:verdana\,sans-serif\;"><span style="font-size:14.0pt\;">The Jersey Shore &amp\; Asbury Park Chambers of Commerce </span></span></span><br />\n&nbsp\;<br />\n<strong><span style="color:black\;"><span style="font-family:verdana\,sans-serif\;">Invite You To Join Us For Our</span></span></strong><br />\n<strong><span style="color:black\;"><span style="font-family:verdana\,sans-serif\;">9th Annual</span></span></strong><br />\n<strong><span style="color:black\;"><span style="font-family:verdana\,sans-serif\;">SPEED NETWORKING EVENT</span></span></strong><br />\n&nbsp\;<br />\n&nbsp\;<br />\n<strong><span style="color:#49B3FF\;"><span style="font-family:verdana\,sans-serif\;">FIRST COME\, FIRST SERVED! </span></span></strong><br />\n<span style="color:#49B3FF\;"><span style="font-family:verdana\,sans-serif\;"><span style="font-size:10.0pt\;">(it&#39\;s fun\, we promise) </span></span></span><br />\n&nbsp\;</div>\n
LOCATION:Dark City Brewing Company 1001 Main Street\, Asbury Park
UID:e.2007.1501
SEQUENCE:3
DTSTAMP:20260421T233246Z
URL:https://business.jerseyshorechambernj.com/events/details/2019-speed-networking-with-the-asbury-park-chamber-of-commerce-1501
END:VEVENT

END:VCALENDAR
