BEGIN:VCALENDAR
VERSION:2.0
PRODID:-//ChamberMaster//Event Calendar 2.0//EN
METHOD:PUBLISH
X-PUBLISHED-TTL:P3D
REFRESH-INTERVAL:P3D
CALSCALE:GREGORIAN
BEGIN:VEVENT
DTSTART:20220818T213000Z
DTEND:20220819T010000Z
X-MICROSOFT-CDO-ALLDAYEVENT:FALSE
SUMMARY:2022 Fireside Networking at Jersey Shore BlueClaws
DESCRIPTION:
X-ALT-DESC;FMTTYPE=text/html:
LOCATION:Shore Town Stadium Lakewood\, NJ
UID:e.2007.1773
SEQUENCE:3
DTSTAMP:20260422T012517Z
URL:https://business.jerseyshorechambernj.com/events/details/2022-fireside-networking-at-jersey-shore-blueclaws-1773
END:VEVENT

END:VCALENDAR
