BEGIN:VCALENDAR
VERSION:2.0
PRODID:-//ChamberMaster//Event Calendar 2.0//EN
METHOD:PUBLISH
X-PUBLISHED-TTL:P3D
REFRESH-INTERVAL:P3D
CALSCALE:GREGORIAN
BEGIN:VEVENT
DTSTART:20220527T143000Z
DTEND:20220527T220000Z
X-MICROSOFT-CDO-ALLDAYEVENT:FALSE
SUMMARY:2022 Jersey Shore Summer Kick Off
DESCRIPTION:Let the summer begin! The Jersey Shore Chamber's Summer Kickoff event\, hosted by the Jersey Shore Chamber of Commerce (JSCC)\, Wall Township\, N.J.\, and sponsored by Puharic and Associates Insurance and Risk Managers\, starts Friday\, May 27 with a Chamber trolley tour from 10:30 a.m. to 3:00 p.m. made up of 35 good-will ambassadors who will visit Chamber member restaurant locations\, including River Rock Restaurant and Marina Grill in Brick\; The Pig and the Parrot Sand Bar\, Brielle\, and Fratello's in Sea Girt to cut a celebratory ribbon with patrons and wish the restaurant owners good luck for a prosperous summer season.  \n\n\n	rom 3:00 p.m. to 6:00 p.m.\, attendees will meet underneath the open tent at Scarborough Fair Restaurant\, 1414 Meeting House Road\, Sea Girt\, N.J. The fee for the 7th Annual Chamber Summer Kickoff\, also open to the public\, is $50.00 and includes a barbeque\, games\, prizes\, networking\, and beer/wine.
X-ALT-DESC;FMTTYPE=text/html:<div style="text-align: center\;">\n<div data-block="true" data-editor="ntoi" data-offset-key="a0k51-0-0">\n<div class="_1mf _1mj" data-offset-key="a0k51-0-0"><span style="font-family:times new roman\,serif\;"><span style="font-size:12.0pt\;">Let the summer begin! The Jersey Shore Chamber&rsquo\;s Summer Kickoff event\, hosted by the Jersey Shore Chamber of Commerce (JSCC)\, Wall Township\, N.J.\, and sponsored by Puharic and Associates Insurance and Risk Managers\, starts </span></span><strong><span style="font-family:times new roman\,serif\;"><span style="font-size:12.0pt\;">Friday\,</span></span></strong><strong><span style="font-family:times new roman\,serif\;"><span style="font-size:12.0pt\;"> May 27 with a Chamber</span></span></strong><span style="font-family:times new roman\,serif\;"><span style="font-size:12.0pt\;"> <strong>trolley tour</strong> </span></span><strong><span style="font-family:times new roman\,serif\;"><span style="font-size:12.0pt\;">from </span></span></strong><strong><span style="font-family:times new roman\,serif\;"><span style="font-size:12.0pt\;">10:30 a.m.</span></span></strong><span style="font-family:times new roman\,serif\;"><span style="font-size:12.0pt\;"> <strong>to 3:00 p.m.</strong> made up of 35 good-will ambassadors who will visit Chamber member restaurant locations\, including <strong>River Rock Restaurant and Marina Grill</strong> in Brick\; <strong>The Pig and the Parrot Sand Bar</strong>\, Brielle\, and <strong>Fratello&rsquo\;s</strong> in Sea Girt to cut a celebratory ribbon with patrons and wish the restaurant owners good luck for a prosperous summer season. &nbsp\;</span></span>\n\n<ol style="list-style-type:upper-alpha\;">\n	<li style="text-align:justify\;" value="6"><strong><span style="font-family:times new roman\,serif\;"><span style="font-size:12.0pt\;">rom 3:00 p.m. to 6:00 p.m.\, attendees will meet </span></span></strong><span style="font-family:times new roman\,serif\;"><span style="font-size:12.0pt\;">underneath the open tent at <strong>Scarborough Fair Restaurant</strong>\, 1414 Meeting House Road\, Sea Girt\, N.J. </span></span><strong><span style="font-family:times new roman\,serif\;"><span style="font-size:12.0pt\;">The </span></span></strong><strong><span style="font-family:times new roman\,serif\;"><span style="font-size:12.0pt\;">fee for the 7</span></span></strong><strong><span style="font-family:times new roman\,serif\;"><span style="font-size:12.0pt\;"><sup>th</sup> Annual Chamber Summer Kickoff\, </span></span></strong><span style="font-family:times new roman\,serif\;"><span style="font-size:12.0pt\;">also open to the public\,</span></span><span style="font-family:times new roman\,serif\;"><span style="font-size:12.0pt\;"> <strong>is $50.00 and includes </strong>a barbeque\, games\, prizes\, networking\, and beer/wine.&nbsp\;</span></span></li>\n</ol>\n</div>\n</div>\n</div>\n
LOCATION:
UID:e.2007.1768
SEQUENCE:3
DTSTAMP:20260422T141819Z
URL:https://business.jerseyshorechambernj.com/events/details/2022-jersey-shore-summer-kick-off-1768
END:VEVENT

END:VCALENDAR
