BEGIN:VCALENDAR
VERSION:2.0
PRODID:-//ChamberMaster//Event Calendar 2.0//EN
METHOD:PUBLISH
X-PUBLISHED-TTL:P3D
REFRESH-INTERVAL:P3D
CALSCALE:GREGORIAN
BEGIN:VEVENT
DTSTART:20220503T150000Z
DTEND:20220503T170000Z
X-MICROSOFT-CDO-ALLDAYEVENT:FALSE
SUMMARY:2022 Women in Business- Brunch & Learn
DESCRIPTION:Women in Business Brunch & Learn\n\n\n\nSponsored by: Susan Corrado of Trip & Sip Travel
X-ALT-DESC;FMTTYPE=text/html:Women in Business Brunch &amp\; Learn<br />\n<br />\nSponsored by: Susan Corrado of Trip &amp\; Sip Travel&nbsp\;
LOCATION:The Shore Club in Spring Lake
UID:e.2007.1767
SEQUENCE:3
DTSTAMP:20260422T142040Z
URL:https://business.jerseyshorechambernj.com/events/details/2022-women-in-business-brunch-learn-1767
END:VEVENT

END:VCALENDAR
