BEGIN:VCALENDAR
VERSION:2.0
PRODID:-//ChamberMaster//Event Calendar 2.0//EN
METHOD:PUBLISH
X-PUBLISHED-TTL:P3D
REFRESH-INTERVAL:P3D
CALSCALE:GREGORIAN
BEGIN:VEVENT
DTSTART:20221129T170000Z
DTEND:20221129T190000Z
X-MICROSOFT-CDO-ALLDAYEVENT:FALSE
SUMMARY:2022 Women in Business- Giving Tuesday
DESCRIPTION:Join us for a Women in Business Networking Lunch to celebrate Giving Tuesday!
X-ALT-DESC;FMTTYPE=text/html:<br />\nJoin us for a Women in Business Networking Lunch to celebrate Giving Tuesday!&nbsp\;<br />\n&nbsp\;
LOCATION:She Shed Eatery 606 Arnold Ave. Point Pleasant Beach
UID:e.2007.1830
SEQUENCE:3
DTSTAMP:20260421T213008Z
URL:https://business.jerseyshorechambernj.com/events/details/2022-women-in-business-giving-tuesday-1830
END:VEVENT

END:VCALENDAR
