BEGIN:VCALENDAR
VERSION:2.0
PRODID:-//ChamberMaster//Event Calendar 2.0//EN
METHOD:PUBLISH
X-PUBLISHED-TTL:P3D
REFRESH-INTERVAL:P3D
CALSCALE:GREGORIAN
BEGIN:VEVENT
DTSTART:20220726T220000Z
DTEND:20220727T000000Z
X-MICROSOFT-CDO-ALLDAYEVENT:FALSE
SUMMARY:2022 Women in Business- Pilates & Networking
DESCRIPTION:Women in Business Pilates & Networking
X-ALT-DESC;FMTTYPE=text/html:Women in Business Pilates &amp\; Networking&nbsp\;<br />\n&nbsp\;
LOCATION:Club Pilates 1919 Route 35\, Wall
UID:e.2007.1771
SEQUENCE:3
DTSTAMP:20260422T031740Z
URL:https://business.jerseyshorechambernj.com/events/details/2022-women-in-business-pilates-networking-1771
END:VEVENT

END:VCALENDAR
