BEGIN:VCALENDAR
VERSION:2.0
PRODID:-//ChamberMaster//Event Calendar 2.0//EN
METHOD:PUBLISH
X-PUBLISHED-TTL:P3D
REFRESH-INTERVAL:P3D
CALSCALE:GREGORIAN
BEGIN:VEVENT
DTSTART:20230425T210000Z
DTEND:20230425T233000Z
X-MICROSOFT-CDO-ALLDAYEVENT:FALSE
SUMMARY:2023 Jersey Shore Biz Expo
DESCRIPTION:No Registration Necessary to Attend!\n\n\n\nOpen to Public- Free Admission!
X-ALT-DESC;FMTTYPE=text/html:<div style="text-align: center\;"><br />\n<span style="font-size:16px\;"><span style="color:#FF0000\;"><span style="font-family:tahoma\;"><strong>No Registration Necessary to Attend!</strong></span></span></span></div>\n\n<div style="text-align: center\;"><br />\n<span style="font-size:16px\;"><span style="color:#FF0000\;"><span style="font-family:tahoma\;"><strong>Open to Public- Free Admission!</strong></span></span></span></div>\n\n<div style="text-align: center\;"><br />\n&nbsp\;</div>\n
LOCATION:Jumping Brook Country Club 210 Jumping Brook Road\, Neptune
UID:e.2007.1834
SEQUENCE:3
DTSTAMP:20260421T153026Z
URL:https://business.jerseyshorechambernj.com/events/details/2023-jersey-shore-biz-expo-1834
END:VEVENT

END:VCALENDAR
