BEGIN:VCALENDAR
VERSION:2.0
PRODID:-//ChamberMaster//Event Calendar 2.0//EN
METHOD:PUBLISH
X-PUBLISHED-TTL:P3D
REFRESH-INTERVAL:P3D
CALSCALE:GREGORIAN
BEGIN:VEVENT
DTSTART:20230526T153000Z
DTEND:20230526T204500Z
X-MICROSOFT-CDO-ALLDAYEVENT:FALSE
SUMMARY:2023 Jersey Shore Summer Kick Off
DESCRIPTION:Let the summer begin! The Jersey Shore Chamber's Summer Kickoff event\, hosted by the Jersey Shore Chamber of Commerce (JSCC)\, Wall Township\, N.J. starts Friday\, May 26 with a Chamber trolley tour from 11:30 a.m. to 4:45 p.m. made up of 35 good-will ambassadors who will visit Chamber member restaurant locations\, including River Rock Restaurant and Marina Grill in Brick\; Fratello's in Sea Girt and The Pig and the Parrot Sand Bar\, Brielle\, to cut a celebratory ribbon with patrons and wish the restaurant owners good luck for a prosperous summer season.   \n\nThe fee for the 8th Annual Chamber Summer Kickoff\, also open to the public\, is $55.00 and includes a trolley ride to each location\, complimentary Happy Hour/ Light Fare\, 3 drink tickets\, games\, prizes\, networking\, beer/wine AND MORE!
X-ALT-DESC;FMTTYPE=text/html:<div style="text-align: center\;">\n<div data-block="true" data-editor="ntoi" data-offset-key="a0k51-0-0">\n<div class="_1mf _1mj" data-offset-key="a0k51-0-0"><span style="font-family:times new roman\,serif\;"><span style="font-size:12.0pt\;">Let the summer begin! The Jersey Shore Chamber&rsquo\;s Summer Kickoff event\, hosted by the Jersey Shore Chamber of Commerce (JSCC)\, Wall Township\, N.J.&nbsp\;</span></span><span style="text-align: center\; font-family: &quot\;times new roman&quot\;\, serif\;"><span style="font-size: 12pt\;">starts&nbsp\;</span></span><strong style="text-align: center\;"><span style="font-family: &quot\;times new roman&quot\;\, serif\;"><span style="font-size: 12pt\;">Friday\,</span></span></strong><strong style="text-align: center\;"><span style="font-family: &quot\;times new roman&quot\;\, serif\;"><span style="font-size: 12pt\;">&nbsp\;May 26 with a Chamber</span></span></strong><span style="text-align: center\; font-family: &quot\;times new roman&quot\;\, serif\;"><span style="font-size: 12pt\;">&nbsp\;<strong>trolley tour</strong>&nbsp\;</span></span><strong style="text-align: center\;"><span style="font-family: &quot\;times new roman&quot\;\, serif\;"><span style="font-size: 12pt\;">from&nbsp\;</span></span></strong><strong style="text-align: center\;"><span style="font-family: &quot\;times new roman&quot\;\, serif\;"><span style="font-size: 12pt\;">11:30 a.m. to 4:45 p.m</span></span></strong><span style="font-family:times new roman\,serif\;"><span style="font-size:12.0pt\;"><strong>.</strong> made up of 35 good-will ambassadors who will visit Chamber member restaurant locations\, including <strong>River Rock Restaurant and Marina Grill</strong> in Brick\;&nbsp\;</span></span><strong style="font-family: &quot\;times new roman&quot\;\, serif\; font-size: 16px\; text-align: center\;">Fratello&rsquo\;s</strong><span style="font-family: &quot\;times new roman&quot\;\, serif\; font-size: 16px\; text-align: center\;">&nbsp\;in Sea Girt and</span><span style="font-family:times new roman\,serif\;"><span style="font-size:12.0pt\;">&nbsp\;<strong>The Pig and the Parrot Sand Bar</strong>\, Brielle\,&nbsp\;to cut a celebratory ribbon with patrons and wish the restaurant owners good luck for a prosperous summer season.&nbsp\;&nbsp\;</span></span><span style="text-align: justify\; font-family: &quot\;times new roman&quot\;\, serif\;"><span style="font-size:12.0pt\;">&nbsp\;</span></span><br />\n<strong style="text-align: justify\;"><span style="font-family:times new roman\,serif\;"><span style="font-size:12.0pt\;">The </span></span></strong><strong style="text-align: justify\;"><span style="font-family:times new roman\,serif\;"><span style="font-size:12.0pt\;">fee for the 8</span></span></strong><strong style="text-align: justify\;"><span style="font-family:times new roman\,serif\;"><span style="font-size:12.0pt\;"><sup>th</sup> Annual Chamber Summer Kickoff\, </span></span></strong><span style="text-align: justify\; font-family: &quot\;times new roman&quot\;\, serif\;"><span style="font-size:12.0pt\;">also open to the public\,</span></span><span style="text-align: justify\; font-family: &quot\;times new roman&quot\;\, serif\;"><span style="font-size:12.0pt\;"> <strong>is $55.00 and includes </strong>a trolley ride to each location\, complimentary Happy Hour/ Light Fare\, 3 drink tickets\,&nbsp\;games\, prizes\, networking\, beer/wine AND MORE!&nbsp\;</span></span></div>\n</div>\n</div>\n
LOCATION:
UID:e.2007.1843
SEQUENCE:3
DTSTAMP:20260421T125838Z
URL:https://business.jerseyshorechambernj.com/events/details/2023-jersey-shore-summer-kick-off-1843
END:VEVENT

END:VCALENDAR
