BEGIN:VCALENDAR
VERSION:2.0
PRODID:-//ChamberMaster//Event Calendar 2.0//EN
METHOD:PUBLISH
X-PUBLISHED-TTL:P3D
REFRESH-INTERVAL:P3D
CALSCALE:GREGORIAN
BEGIN:VEVENT
DTSTART:20231017T210000Z
DTEND:20231018T220000Z
X-MICROSOFT-CDO-ALLDAYEVENT:FALSE
SUMMARY:2023 Jersey Shore Women's Conference
DESCRIPTION:www.jerseyshorechambernj.com/womensconference
X-ALT-DESC;FMTTYPE=text/html:<div style="text-align: center\;"><a href="http://www.jerseyshorechambernj.com/womensconference">www.jerseyshorechambernj.com/womensconference</a>&nbsp\;<br />\n&nbsp\;</div>\n
LOCATION:The Shore Club 700 Hwy 71\, Spring Lake
UID:e.2007.1836
SEQUENCE:3
DTSTAMP:20260421T082629Z
URL:https://business.jerseyshorechambernj.com/events/details/2023-jersey-shore-women-s-conference-1836
END:VEVENT

END:VCALENDAR
