BEGIN:VCALENDAR
VERSION:2.0
PRODID:-//ChamberMaster//Event Calendar 2.0//EN
METHOD:PUBLISH
X-PUBLISHED-TTL:P3D
REFRESH-INTERVAL:P3D
CALSCALE:GREGORIAN
BEGIN:VEVENT
DTSTART:20230920T123000Z
DTEND:20230920T143000Z
X-MICROSOFT-CDO-ALLDAYEVENT:FALSE
SUMMARY:2023 Meet The Mayors
DESCRIPTION:An annual event where members of the chamber and community come to meet Monmouth County's dignitaries. Enjoy a delicious breakfast provided by Jumping Brook Country Club and get to know your Mayors!
X-ALT-DESC;FMTTYPE=text/html:<span style="color:#1D2129\;"><span style="font-family:helvetica\,sans-serif\;"><span style="font-size:9.0pt\;">An annual event where members of the chamber and community come to meet Monmouth County&#39\;s dignitaries. Enjoy a delicious breakfast provided by Jumping Brook Country Club and get to know your Mayors!</span></span></span>
LOCATION:Jumping Brook Country Club 210 Jumping Brook Road Neptune
UID:e.2007.1837
SEQUENCE:3
DTSTAMP:20260421T082603Z
URL:https://business.jerseyshorechambernj.com/events/details/2023-meet-the-mayors-1837
END:VEVENT

END:VCALENDAR
