BEGIN:VCALENDAR
VERSION:2.0
PRODID:-//ChamberMaster//Event Calendar 2.0//EN
METHOD:PUBLISH
X-PUBLISHED-TTL:P3D
REFRESH-INTERVAL:P3D
CALSCALE:GREGORIAN
BEGIN:VEVENT
DTSTART:20230222T130000Z
DTEND:20230222T153000Z
X-MICROSOFT-CDO-ALLDAYEVENT:FALSE
SUMMARY:2023 Serving Up Knowledge- Sales & Marketing
DESCRIPTION:
X-ALT-DESC;FMTTYPE=text/html:
LOCATION:Jumping Brook Country Club 210 Jumping Brook Road Neptune
UID:e.2007.1776
SEQUENCE:3
DTSTAMP:20260421T183155Z
URL:https://business.jerseyshorechambernj.com/events/details/2023-serving-up-knowledge-sales-marketing-1776
END:VEVENT

END:VCALENDAR
