BEGIN:VCALENDAR
VERSION:2.0
PRODID:-//ChamberMaster//Event Calendar 2.0//EN
METHOD:PUBLISH
X-PUBLISHED-TTL:P3D
REFRESH-INTERVAL:P3D
CALSCALE:GREGORIAN
BEGIN:VEVENT
DTSTART:20230321T213000Z
DTEND:20230322T000000Z
X-MICROSOFT-CDO-ALLDAYEVENT:FALSE
SUMMARY:2023 Speed Networking with Brick Chamber of Commerce
DESCRIPTION:Speed Networking with the Brick Chamber of Commerce\n\n \n\nFIRST COME\, FIRST SERVED \n\n\nParticipants will have the opportunity to network \n\n one-on-one\n\nwith as many attendees as time allows.\n\nAll in attendance must commit to the entire\n\nlength of the event.  \n\nONLY two (2) companies per industry\n\nand one (1) representative per company\n\nwill be eligible to register.\n\n \n\nThere will be open networking for speed networking participants and spectators before and after the structured speed networking event.\n\n\n\nPrice includes Light Fare and Cash Bar.\n\nParticipants must pre-register\; spectators are welcome to walk-in.\n\n \n\n*Spectators are welcome to stay for the length of the event to network and observe.
X-ALT-DESC;FMTTYPE=text/html:<div style="text-align: center\;">\n<div style="text-align: left\;"><span style="font-family: tahoma\;"><span style="font-size: 14px\;"><strong><span style="font-size: 16px\;">Speed Networking with the Brick Chamber of Commerce</span></strong></span></span><br />\n&nbsp\;</div>\n\n<div style="text-align: left\;"><span style="font-family: tahoma\;"><b>FIRST COME\, FIRST SERVED&nbsp\;</b></span></div>\n\n<div align="center" style="text-align: center\;">\n<div style="text-align: left\;"><span style="font-family: tahoma\;">Participants will have the opportunity to network </span></div>\n\n<div style="text-align: left\;"><span style="font-family: tahoma\;">&nbsp\;one-on-one<br />\nwith as many attendees as time allows.<br />\n<strong>All in attendance must commit to the entire</strong></span></div>\n\n<div style="text-align: left\;"><span style="font-family: tahoma\;"><strong>length of the event.</strong>&nbsp\;&nbsp\;</span></div>\n\n<div style="text-align: left\;"><span style="font-family: tahoma\;">ONLY two (2) companies per industry<br />\nand one (1) representative per company</span></div>\n\n<div style="text-align: left\;"><span style="font-family: tahoma\;">will be eligible to register.<br />\n&nbsp\;<br />\nThere will be open networking for speed networking participants and spectators before and after the structured speed networking event.<br />\n<br />\nPrice includes Light Fare and Cash Bar.<br />\nParticipants must pre-register\; spectators are welcome to walk-in.<br />\n&nbsp\;<br />\n*Spectators are welcome to stay for the length of the event to network and observe.</span></div>\n</div>\n\n<div style="text-align: left\;"><span style="font-family: tahoma\;">&nbsp\;</span></div>\n</div>\n
LOCATION:River Rock 1600 NJ-70\, Brick Township\, NJ 08724
UID:e.2007.1833
SEQUENCE:3
DTSTAMP:20260421T155111Z
URL:https://business.jerseyshorechambernj.com/events/details/2023-speed-networking-with-brick-chamber-of-commerce-1833
END:VEVENT

END:VCALENDAR
