BEGIN:VCALENDAR
VERSION:2.0
PRODID:-//ChamberMaster//Event Calendar 2.0//EN
METHOD:PUBLISH
X-PUBLISHED-TTL:P3D
REFRESH-INTERVAL:P3D
CALSCALE:GREGORIAN
BEGIN:VEVENT
DTSTART:20230511T160000Z
DTEND:20230511T180000Z
X-MICROSOFT-CDO-ALLDAYEVENT:FALSE
SUMMARY:2023 Women In Business Lunch & Learn
DESCRIPTION:Women in Business\n\nProgressive Networking Lunch and Learn
X-ALT-DESC;FMTTYPE=text/html:Women in Business<br />\nProgressive Networking Lunch and Learn
LOCATION:The Shore Club 700 NJ-71\, Spring Lake\, NJ 07762
UID:e.2007.1841
SEQUENCE:3
DTSTAMP:20260421T140622Z
URL:https://business.jerseyshorechambernj.com/events/details/2023-women-in-business-lunch-learn-1841
END:VEVENT

END:VCALENDAR
