BEGIN:VCALENDAR
VERSION:2.0
PRODID:-//ChamberMaster//Event Calendar 2.0//EN
METHOD:PUBLISH
X-PUBLISHED-TTL:P3D
REFRESH-INTERVAL:P3D
CALSCALE:GREGORIAN
BEGIN:VEVENT
DTSTART:20191010T220000Z
DTEND:20191011T010000Z
X-MICROSOFT-CDO-ALLDAYEVENT:FALSE
SUMMARY:34th Annual Osprey Awards Dinner
DESCRIPTION:The Jersey Shore Chamber of Commerce requests the pleasure of your company at our 34th Annual Osprey Awards. A dinner reception honoring our 2019 most outstanding citizens and business winners! \n\n\n2019 Sponsorships Opportunities Available \n\n\n\nPlatinum Sponsor\n\nIncludes social media promotion and exposure\, signage\, full page ad in ad journal\, and 8 reception tickets - $1500 \n\n\n\nGold Sponsor \n\nIncludes social media promotion and exposure\, signage\, full page ad in ad journal\, and 6 reception tickets - $1000\n\n\n\nSilver Sponsor \n\nIncludes social media promotion and exposure\, signage\, full page ad in ad journal\, and 4 reception tickets - $750\n\n\n\nCocktail Hour Sponsor\n\nIncludes social media promotion and exposure\, signage\, and recognition in ad journal - $500\n\n\n\nGift Sponsor \n\nRecognition at event and in ad journal
X-ALT-DESC;FMTTYPE=text/html:<div style="text-align: center\;"><br />\nThe Jersey Shore Chamber of Commerce requests the pleasure of your company at our 34th&nbsp\;Annual Osprey Awards. A dinner reception honoring our 2019 most outstanding citizens and business&nbsp\;winners!&nbsp\;</div>\n<br />\n<span style="font-size:14px\;"><strong><span style="font-family:arial\,sans-serif\;">2019 Sponsorships Opportunities Available&nbsp\;</span></strong><br />\n<br />\n<strong><span style="font-family:arial\,sans-serif\;">Platinum Sponsor</span></strong><br />\n<span style="font-family:arial\,sans-serif\;">Includes social media promotion and exposure\, signage\, full page ad in ad journal\, and 8 reception tickets - $1500&nbsp\;</span><br />\n<br />\n<strong><span style="font-family:arial\,sans-serif\;">Gold Sponsor&nbsp\;</span></strong><br />\n<span style="font-family:arial\,sans-serif\;">Includes social media promotion and exposure\, signage\, full page ad in ad journal\, and 6 reception tickets - $1000</span><br />\n<br />\n<strong><span style="font-family:arial\,sans-serif\;">Silver Sponsor&nbsp\;</span></strong><br />\n<span style="font-family:arial\,sans-serif\;">Includes social media promotion and exposure\, signage\, full page ad in ad journal\, and 4 reception tickets - $750</span><br />\n<br />\n<strong><span style="font-family:arial\,sans-serif\;">Cocktail Hour Sponsor</span></strong><br />\n<span style="font-family:arial\,sans-serif\;">Includes social media promotion and exposure\, signage\, and recognition in ad journal - $500</span><br />\n<br />\n<strong><span style="font-family:arial\,sans-serif\;">Gift Sponsor&nbsp\;</span></strong><br />\n<span style="font-family:arial\,sans-serif\;">Recognition at event and in ad journal&nbsp\;</span></span><br />\n<br />\n&nbsp\;
LOCATION:Jumping Brook Country Club 210 Jumping Brook Road Neptune\, NJ \, 07753
UID:e.2007.1496
SEQUENCE:3
DTSTAMP:20260421T082156Z
URL:https://business.jerseyshorechambernj.com/events/details/34th-annual-osprey-awards-dinner-1496
END:VEVENT

END:VCALENDAR
