BEGIN:VCALENDAR
VERSION:2.0
PRODID:-//ChamberMaster//Event Calendar 2.0//EN
METHOD:PUBLISH
X-PUBLISHED-TTL:P3D
REFRESH-INTERVAL:P3D
CALSCALE:GREGORIAN
BEGIN:VEVENT
DTSTART:20151119T223000Z
DTEND:20151120T003000Z
X-MICROSOFT-CDO-ALLDAYEVENT:FALSE
SUMMARY:Absolute Chiropractic Grand Opening
DESCRIPTION:Join us for a Ribbon Cutting Ceremony and Grand Opening Celebration!
X-ALT-DESC;FMTTYPE=text/html:Join us for a Ribbon Cutting Ceremony and Grand Opening Celebration!
LOCATION:2100 Route 35\, Sea Girt Square
UID:e.2007.370
SEQUENCE:3
DTSTAMP:20260426T031227Z
URL:https://business.jerseyshorechambernj.com/events/details/absolute-chiropractic-grand-opening-11-19-2015-370
END:VEVENT

END:VCALENDAR
