BEGIN:VCALENDAR
VERSION:2.0
PRODID:-//ChamberMaster//Event Calendar 2.0//EN
METHOD:PUBLISH
X-PUBLISHED-TTL:P3D
REFRESH-INTERVAL:P3D
CALSCALE:GREGORIAN
BEGIN:VEVENT
DTSTART:20160929T210000Z
DTEND:20160929T230000Z
X-MICROSOFT-CDO-ALLDAYEVENT:FALSE
SUMMARY:Business After Hours at Signature Kitchens with GreenWorks
DESCRIPTION:Join us for a Business After Hours Networking Event!\n\n\n\nHosted by: Signature Kitchens and GreenWorks\, LLC
X-ALT-DESC;FMTTYPE=text/html:<div style="text-align: center\;"><span style="font-family:verdana\;"><span style="font-size:18px\;">Join us for a Business After Hours Networking Event!<br />\n<br />\nHosted by: Signature Kitchens and GreenWorks\, LLC</span></span></div>\n
LOCATION:Signature Kitchens 807 Route 88 Point Pleasant 732-785-2520
UID:e.2007.816
SEQUENCE:3
DTSTAMP:20260425T102509Z
URL:https://business.jerseyshorechambernj.com/events/details/business-after-hours-at-signature-kitchens-with-greenworks-816
END:VEVENT

END:VCALENDAR
