BEGIN:VCALENDAR
VERSION:2.0
PRODID:-//ChamberMaster//Event Calendar 2.0//EN
METHOD:PUBLISH
X-PUBLISHED-TTL:P3D
REFRESH-INTERVAL:P3D
CALSCALE:GREGORIAN
BEGIN:VEVENT
DTSTART:20190107T223000Z
DTEND:20190108T003000Z
X-MICROSOFT-CDO-ALLDAYEVENT:FALSE
SUMMARY:First Monday Networking
DESCRIPTION:Join us at Fratello's Restaurant for networking\, delicious food and drinks!
X-ALT-DESC;FMTTYPE=text/html:Join us at Fratello&#39\;s Restaurant for networking\, delicious food and drinks!
LOCATION:Fratello's Restaurant 810 The Plaza\, Sea Girt
UID:e.2007.994
SEQUENCE:3
DTSTAMP:20260422T021221Z
URL:https://business.jerseyshorechambernj.com/events/details/first-monday-networking-01-07-2019-994
END:VEVENT

END:VCALENDAR
