BEGIN:VCALENDAR
VERSION:2.0
PRODID:-//ChamberMaster//Event Calendar 2.0//EN
METHOD:PUBLISH
X-PUBLISHED-TTL:P3D
REFRESH-INTERVAL:P3D
CALSCALE:GREGORIAN
BEGIN:VEVENT
DTSTART:20151201T220000Z
DTEND:20151202T000000Z
X-MICROSOFT-CDO-ALLDAYEVENT:FALSE
SUMMARY:Multi-Association Business After Hours with American Cancer Society
DESCRIPTION:Join the American Cancer Society's Corporate Leadership Council\, the Asbury Park Chamber of Commerce\, the Jersey Shore Chamber of Commerce and the Monmouth-Ocean Development Council for an evening of fun and networking!
X-ALT-DESC;FMTTYPE=text/html:<div style="text-align: center\;"><span style="font-size: 18pt\;"><span style="font-family: calibri\;">Join the American Cancer Society&rsquo\;s Corporate Leadership Council\, the Asbury Park Chamber of Commerce\, the Jersey Shore Chamber of Commerce and the Monmouth-Ocean Development Council for an evening of fun</span><span style="font-family: calibri\;"> and networking!</span></span><br />\n&nbsp\;</div>\n
LOCATION:PORTA 911 Kingsley Street\, Asbury Park http://www.pizzaporta.com/
UID:e.2007.372
SEQUENCE:3
DTSTAMP:20260426T031819Z
URL:https://business.jerseyshorechambernj.com/events/details/multi-association-business-after-hours-with-american-cancer-society-12-01-2015-372
END:VEVENT

END:VCALENDAR
