BEGIN:VCALENDAR
VERSION:2.0
PRODID:-//ChamberMaster//Event Calendar 2.0//EN
METHOD:PUBLISH
X-PUBLISHED-TTL:P3D
REFRESH-INTERVAL:P3D
CALSCALE:GREGORIAN
BEGIN:VEVENT
DTSTART;VALUE=DATE:20151118
DTEND;VALUE=DATE:20151119
TRANSP:TRANSPARENT
X-MICROSOFT-CDO-ALLDAYEVENT:TRUE
SUMMARY:Sunnyside Manor Grand Opening at 4pm
DESCRIPTION:Join us for a Ribbon Cutting and Grand Opening Celebration!
X-ALT-DESC;FMTTYPE=text/html:Join us for a Ribbon Cutting and Grand Opening Celebration!
LOCATION:2500 Ridgewood Road\, Wall
UID:e.2007.371
SEQUENCE:3
DTSTAMP:20260426T031608Z
URL:https://business.jerseyshorechambernj.com/events/details/sunnyside-manor-grand-opening-at-4pm-11-18-2015-371
END:VEVENT

END:VCALENDAR
